BEGIN:VCALENDAR
VERSION:2.0
PRODID:-//Cornerstone Housing for Women - ECPv6.15.20//NONSGML v1.0//EN
CALSCALE:GREGORIAN
METHOD:PUBLISH
X-WR-CALNAME:Cornerstone Housing for Women
X-ORIGINAL-URL:https://lepilierpourfemmes.ca
X-WR-CALDESC:Évènements pour Cornerstone Housing for Women
REFRESH-INTERVAL;VALUE=DURATION:PT1H
X-Robots-Tag:noindex
X-PUBLISHED-TTL:PT1H
BEGIN:VTIMEZONE
TZID:America/New_York
BEGIN:DAYLIGHT
TZOFFSETFROM:-0500
TZOFFSETTO:-0400
TZNAME:EDT
DTSTART:20240310T070000
END:DAYLIGHT
BEGIN:STANDARD
TZOFFSETFROM:-0400
TZOFFSETTO:-0500
TZNAME:EST
DTSTART:20241103T060000
END:STANDARD
BEGIN:DAYLIGHT
TZOFFSETFROM:-0500
TZOFFSETTO:-0400
TZNAME:EDT
DTSTART:20250309T070000
END:DAYLIGHT
BEGIN:STANDARD
TZOFFSETFROM:-0400
TZOFFSETTO:-0500
TZNAME:EST
DTSTART:20251102T060000
END:STANDARD
BEGIN:DAYLIGHT
TZOFFSETFROM:-0500
TZOFFSETTO:-0400
TZNAME:EDT
DTSTART:20260308T070000
END:DAYLIGHT
BEGIN:STANDARD
TZOFFSETFROM:-0400
TZOFFSETTO:-0500
TZNAME:EST
DTSTART:20261101T060000
END:STANDARD
END:VTIMEZONE
BEGIN:VEVENT
DTSTART;TZID=America/New_York:20250426T100000
DTEND;TZID=America/New_York:20250427T160000
DTSTAMP:20260419T144650
CREATED:20250919T025726Z
LAST-MODIFIED:20250919T025726Z
UID:4972-1745661600-1745769600@lepilierpourfemmes.ca
SUMMARY:Collecte de dons IKEA au profit de Cornerstone
DESCRIPTION:Grand ménage de printemps en cours? Désencombrez pour une bonne cause et recevez un coupon IKEA de 15 % de rabais!IKEA Ottawa organise une collecte de dons au profit de Cornerstone Housing for Women le samedi 26 et le dimanche 27 avril de 10 h à 16 h. \nPassez chez IKEA Ottawa\, situé au 2685\, rue Iris dans l’ouest de la ville\, pour faire don d’articles ménagers neufs ou légèrement usagés ainsi que d’articles essentiels du quotidien pendant vos courses! \nVeuillez consulter notre liste de souhaits à jour pour voir quels articles nous avons actuellement besoin. \nMerci pour votre soutien!
URL:https://lepilierpourfemmes.ca/evenement/collecte-de-dons-ikea-au-profit-de-cornerstone/
LOCATION:IKEA Ottawa\, 2685 Iris Street\, Ottawa\, ON\, K2C 3S4\, Canada
ATTACH;FMTTYPE=image/png:https://lepilierpourfemmes.ca/wp-content/uploads/2025/04/2025-IKEA-Donation-Drive-Banner.png
END:VEVENT
END:VCALENDAR